BEGIN:VCALENDAR
VERSION:2.0
PRODID:-//Surdouessence - ECPv6.15.20//NONSGML v1.0//EN
CALSCALE:GREGORIAN
METHOD:PUBLISH
X-WR-CALNAME:Surdouessence
X-ORIGINAL-URL:https://surdouessence.ch
X-WR-CALDESC:Évènements pour Surdouessence
REFRESH-INTERVAL;VALUE=DURATION:PT1H
X-Robots-Tag:noindex
X-PUBLISHED-TTL:PT1H
BEGIN:VTIMEZONE
TZID:Europe/Zurich
BEGIN:DAYLIGHT
TZOFFSETFROM:+0100
TZOFFSETTO:+0200
TZNAME:CEST
DTSTART:20230326T010000
END:DAYLIGHT
BEGIN:STANDARD
TZOFFSETFROM:+0200
TZOFFSETTO:+0100
TZNAME:CET
DTSTART:20231029T010000
END:STANDARD
BEGIN:DAYLIGHT
TZOFFSETFROM:+0100
TZOFFSETTO:+0200
TZNAME:CEST
DTSTART:20240331T010000
END:DAYLIGHT
BEGIN:STANDARD
TZOFFSETFROM:+0200
TZOFFSETTO:+0100
TZNAME:CET
DTSTART:20241027T010000
END:STANDARD
BEGIN:DAYLIGHT
TZOFFSETFROM:+0100
TZOFFSETTO:+0200
TZNAME:CEST
DTSTART:20250330T010000
END:DAYLIGHT
BEGIN:STANDARD
TZOFFSETFROM:+0200
TZOFFSETTO:+0100
TZNAME:CET
DTSTART:20251026T010000
END:STANDARD
END:VTIMEZONE
BEGIN:VEVENT
DTSTART;TZID=Europe/Zurich:20241203T200000
DTEND;TZID=Europe/Zurich:20241203T210000
DTSTAMP:20260426T052438
CREATED:20241202T143645Z
LAST-MODIFIED:20241202T144100Z
UID:7001-1733256000-1733259600@surdouessence.ch
SUMMARY:Cathy Germain - La petite fille au sourire figé
DESCRIPTION:Entretien Surdouessence avec Cathy Germain\, autour de son livre autobiographique “La petite fille au sourire figé”.\n \nSi vous voulez découvrir l’ouvrage de Cathy : \n\n\nhttps://www.fnac.com/a20673142/Cathy-Germain-La-petite-fille-au-sourire-fige\n\n\n \nLien de connexion directe (gratuit et sans inscription) :\n \n\nhttps://www.youtube.com/watch?v=XIf3cxZJTPY\n\n 
URL:https://surdouessence.ch/event/cathy-germain-la-petite-fille-au-sourire-fige/
LOCATION:YouTube
CATEGORIES:Conférences,Evenements,Soirées en ligne
ATTACH;FMTTYPE=image/jpeg:https://surdouessence.ch/wp-content/uploads/2024/12/Cathy-03-Avent.jpg
END:VEVENT
BEGIN:VEVENT
DTSTART;TZID=Europe/Zurich:20241204T123000
DTEND;TZID=Europe/Zurich:20241204T133000
DTSTAMP:20260426T052438
CREATED:20241127T092934Z
LAST-MODIFIED:20241127T092938Z
UID:6939-1733315400-1733319000@surdouessence.ch
SUMMARY:Flora Gavand & Alban Bourdy - La sensibilité\, créatrice de lien
DESCRIPTION:Flora Gavand et Alban Bourdy \, co-auteurs de Main dans la main vers un monde plus sensible\, vous proposent un dialogue en vulnérabilité\, en direct.\n\n\n \n\n\n \nLien de connexion directe (gratuit et sans inscription) :\nhttps://www.youtube.com/watch?v=uek1OCn1Rc4\n\n \n\n 
URL:https://surdouessence.ch/event/flora-gavand-alban-bourdy-la-sensibilite-creatrice-de-lien/
LOCATION:YouTube
CATEGORIES:Conférences,Evenements
ATTACH;FMTTYPE=image/jpeg:https://surdouessence.ch/wp-content/uploads/2024/11/Flora-Alban.jpg
END:VEVENT
BEGIN:VEVENT
DTSTART;TZID=Europe/Zurich:20241206T203000
DTEND;TZID=Europe/Zurich:20241206T230000
DTSTAMP:20260426T052438
CREATED:20241202T132029Z
LAST-MODIFIED:20241202T133754Z
UID:6982-1733517000-1733526000@surdouessence.ch
SUMMARY:Table Ronde Surdouessence
DESCRIPTION:Table Ronde Participative en ligne\, initiée par Alexandra Devaux\n \nEt si on partageait tous ensemble nos bizarreries et petites anecdotes\, ainsi que celles de nos enfants ?\n \navec Alexandra Devaux\, Alban Bourdy\, Isabelle Alix (alias La Fée Tricottine)\, Isabelle Durpoix et un(e) invité(e) surprise.\n\n\n \n\n\n \nLien de connexion directe (gratuit et sans inscription) :\nhttps://www.youtube.com/watch?v=K84rNBMmP10\n\n \n\n 
URL:https://surdouessence.ch/event/table-ronde-surdouessence/
LOCATION:YouTube
CATEGORIES:Conférences,Evenements,Soirées en ligne,Tables Rondes
ATTACH;FMTTYPE=image/jpeg:https://surdouessence.ch/wp-content/uploads/2024/12/Alex-et-Alban.jpg
END:VEVENT
BEGIN:VEVENT
DTSTART;TZID=Europe/Zurich:20241207T140000
DTEND;TZID=Europe/Zurich:20241207T160000
DTSTAMP:20260426T052438
CREATED:20241130T171437Z
LAST-MODIFIED:20241130T185657Z
UID:6966-1733580000-1733587200@surdouessence.ch
SUMMARY:Sébastien Delissen - Le Tarot et la Renaissance (+ Tirage Tarologique)
DESCRIPTION: \n\n\nAtelier Tarot de Sébastien Delissen le samedi 7 décembre\, à 14h.\n \n\n\nVous pouvez vous y inscrire par mail (l.arbre.de.vie13@gmail.com). Vous recevrez alors le lien Zoom privé quelques jours avant le tirage.\n\n\n \n\n\nSébastien Delissen est docteur en littérature et civilisation françaises (sa thèse portait sur l’œuvre de George Sand). Il a écrit des articles dans des revues universitaires nationales et internationales. Tarologue spécialiste du tarot de Marseille\, il est l’auteur du livre Tarot de Marseille (Fernand Lanore\, 2020).
URL:https://surdouessence.ch/event/sebastien-delissen-le-tarot-et-la-renaissance-tirage-tarologique/
LOCATION:Zoom
CATEGORIES:Ateliers,Conférences,Evenements
ATTACH;FMTTYPE=image/jpeg:https://surdouessence.ch/wp-content/uploads/2024/11/Sebastien-Avent-2024.jpg
END:VEVENT
BEGIN:VEVENT
DTSTART;TZID=Europe/Zurich:20241209T200000
DTEND;TZID=Europe/Zurich:20241209T210000
DTSTAMP:20260426T052438
CREATED:20241202T184450Z
LAST-MODIFIED:20241202T185406Z
UID:7013-1733774400-1733778000@surdouessence.ch
SUMMARY:Hélène Vecchiali - La psychanalyse est-elle efficace ?
DESCRIPTION:Entretien Surdouessence avec Hélène Vecchiali\, autour de son livre “Bienvenue en Thérapie” (Larousse\, 2024).\n \n17 récits de moments de bascule\, 17 films associés\n \nLien de connexion directe (gratuit et sans inscription) :\n \nhttps://www.youtube.com/watch?v=RY7hW3ZuIlQ\n 
URL:https://surdouessence.ch/event/helene-vecchiali-la-psychanalyse-est-elle-efficace/
LOCATION:YouTube
CATEGORIES:Conférences,Evenements,Soirées en ligne
ATTACH;FMTTYPE=image/jpeg:https://surdouessence.ch/wp-content/uploads/2024/12/Helene-Avent.jpg
END:VEVENT
BEGIN:VEVENT
DTSTART;TZID=Europe/Zurich:20241213T203000
DTEND;TZID=Europe/Zurich:20241213T220000
DTSTAMP:20260426T052438
CREATED:20241207T165751Z
LAST-MODIFIED:20241207T170312Z
UID:7046-1734121800-1734127200@surdouessence.ch
SUMMARY:Sylvain Perriollat - Faire l'expérience de l'énergie du cœur
DESCRIPTION:Entretien Surdouessence avec Sylvain Perriollat\, autour de son livre “Énergies subtiles” (Animae\, mars 2025).\n \n \nLien de connexion directe (gratuit et sans inscription) :\n 
URL:https://surdouessence.ch/event/sylvain-perriollat-faire-lexperience-de-lenergie-du-coeur/
LOCATION:YouTube
CATEGORIES:Conférences,Evenements,Soirées en ligne
ATTACH;FMTTYPE=image/jpeg:https://surdouessence.ch/wp-content/uploads/2024/12/Sylvain-Avent-2024.jpg
END:VEVENT
BEGIN:VEVENT
DTSTART;TZID=Europe/Zurich:20241216T130000
DTEND;TZID=Europe/Zurich:20241216T140000
DTSTAMP:20260426T052438
CREATED:20241213T145158Z
LAST-MODIFIED:20241213T145613Z
UID:7067-1734354000-1734357600@surdouessence.ch
SUMMARY:Samia Figère - Les répercussions physiologiques de l'hypersensibilité
DESCRIPTION:Entretien Surdouessence avec Samia Figère\, formatrice spécialiste des troubles neurodéveloppementaux et des fonctionnements atypiques\, autrice du livre “Trop : Journal intime d’une petite fille hypersensible”\n \n \nLien de connexion directe (gratuit et sans inscription) :\n 
URL:https://surdouessence.ch/event/samia-figere-les-repercussions-physiologiques-de-lhypersensibilite/
LOCATION:YouTube
CATEGORIES:Conférences,Evenements
ATTACH;FMTTYPE=image/jpeg:https://surdouessence.ch/wp-content/uploads/2024/12/Samia-Avent.jpg
END:VEVENT
BEGIN:VEVENT
DTSTART;TZID=Europe/Zurich:20241218T190000
DTEND;TZID=Europe/Zurich:20241218T203000
DTSTAMP:20260426T052438
CREATED:20241216T094904Z
LAST-MODIFIED:20241216T100256Z
UID:7096-1734548400-1734553800@surdouessence.ch
SUMMARY:Introduction aux premiers secours en santé mentale / ROGER
DESCRIPTION:Live Surdouessence de Xavier Vasseur\, sur la méthode ROGER pour la santé mentale.\n \n \nLien de connexion directe (gratuit et sans inscription) :\n 
URL:https://surdouessence.ch/event/introduction-aux-premiers-secours-en-sante-mentale-roger/
LOCATION:YouTube
CATEGORIES:Conférences,Evenements
ATTACH;FMTTYPE=image/jpeg:https://surdouessence.ch/wp-content/uploads/2024/12/Xavier-Avent.jpg
END:VEVENT
BEGIN:VEVENT
DTSTART;TZID=Europe/Zurich:20241221T203000
DTEND;TZID=Europe/Zurich:20241221T220000
DTSTAMP:20260426T052438
CREATED:20241214T173009Z
LAST-MODIFIED:20241214T173703Z
UID:7080-1734813000-1734818400@surdouessence.ch
SUMMARY:Comment développer son HPA (Haut Potentiel Amoureux)
DESCRIPTION:Entretien Surdouessence avec Hege Aasheim et Christian Théraulaz\, coachs\, formateurs et thérapeutes de couple.\n \nLeur site : https://www.potentiel-toi-moi-nous.ch/\n \n \nLien de connexion directe (gratuit et sans inscription) :\n 
URL:https://surdouessence.ch/event/comment-developper-son-hpa-haut-potentiel-amoureux/
LOCATION:YouTube
CATEGORIES:Conférences,Evenements,Formations,Soirées en ligne
ATTACH;FMTTYPE=image/jpeg:https://surdouessence.ch/wp-content/uploads/2024/12/Hege-et-Christian.jpg
END:VEVENT
END:VCALENDAR